BEGIN:VCALENDAR
VERSION:2.0
PRODID:-//Oliver Fischer - ECPv6.12.0.1//NONSGML v1.0//EN
CALSCALE:GREGORIAN
METHOD:PUBLISH
X-WR-CALNAME:Oliver Fischer
X-ORIGINAL-URL:https://oliverfischer.ch
X-WR-CALDESC:Veranstaltungen im Oliver Fischer
REFRESH-INTERVAL;VALUE=DURATION:PT1H
X-Robots-Tag:noindex
X-PUBLISHED-TTL:PT1H
BEGIN:VTIMEZONE
TZID:Europe/Zurich
BEGIN:DAYLIGHT
TZOFFSETFROM:+0100
TZOFFSETTO:+0200
TZNAME:CEST
DTSTART:20230326T010000
END:DAYLIGHT
BEGIN:STANDARD
TZOFFSETFROM:+0200
TZOFFSETTO:+0100
TZNAME:CET
DTSTART:20231029T010000
END:STANDARD
END:VTIMEZONE
BEGIN:VEVENT
DTSTART;TZID=Europe/Zurich:20230830T110000
DTEND;TZID=Europe/Zurich:20230830T120000
DTSTAMP:20260424T102828
CREATED:20230803T092336Z
LAST-MODIFIED:20230803T092336Z
UID:208-1693393200-1693396800@oliverfischer.ch
SUMMARY:Pressekonferenz
DESCRIPTION:
URL:https://oliverfischer.ch/event/pressekonferenz/
END:VEVENT
END:VCALENDAR